BEGIN:VCALENDAR
VERSION:2.0
PRODID:-//ChamberMaster//Event Calendar 2.0//EN
METHOD:PUBLISH
X-PUBLISHED-TTL:P3D
REFRESH-INTERVAL:P3D
CALSCALE:GREGORIAN
BEGIN:VEVENT
DTSTART:20090731T003000Z
DTEND:20090731T030000Z
X-MICROSOFT-CDO-ALLDAYEVENT:FALSE
SUMMARY:Wines of South America Class
DESCRIPTION:Class taught by Tynan Szvetecz\, Senior Wine Instructor with International Wine Guild. Explore the famous wine-producing countries and regions of the world\, learning basic wine information and regional culture\, history and wine and food pairing. Sample six wines per class and learn to distinguish tastes by region of origin. Bread and cheese will be served with each class. Fee includes wine\, food\, handouts and tuition
X-ALT-DESC;FMTTYPE=text/html:Class taught by Tynan Szvetecz\, Senior Wine Instructor with International Wine Guild. Explore the famous wine-producing countries and regions of the world\, learning basic wine information and regional culture\, history and wine and food pairing. Sample six wines per class and learn to distinguish tastes by region of origin. Bread and cheese will be served with each class. Fee includes wine\, food\, handouts and tuition
LOCATION:Wine Country Inn
UID:e.562.12
SEQUENCE:3
DTSTAMP:20260422T175017Z
URL:http://palisade.mobileappview.com/events/details/wines-of-south-america-class-07-30-2009-12
END:VEVENT

END:VCALENDAR
