BEGIN:VCALENDAR
VERSION:2.0
PRODID:-//ChamberMaster//Event Calendar 2.0//EN
METHOD:PUBLISH
X-PUBLISHED-TTL:P3D
REFRESH-INTERVAL:P3D
CALSCALE:GREGORIAN
BEGIN:VEVENT
DTSTART:20091011T003000Z
DTEND:20091011T030000Z
X-MICROSOFT-CDO-ALLDAYEVENT:FALSE
SUMMARY:Wines of New Zealand Class at the Wine Country Inn
DESCRIPTION:Explore the famous wine-producing countries and regions of the world\, learning basic wine information and regional culture\, history and wine and food pairing. Sample six wines per class and learn to distinguish tastes by region of origin. Bread and cheese will be served with each class. Fee includes wine\, food\, handouts and tuition. Sign up for this class individually for $50/person\, or use one of the class package deals below:\n\nSign-up for the Wines from Climates similar to Palisade on 10/22 and the Wines of New Zealand on 10/10 and receive a 15% discount!\n\nClass content\n\n    * History of wine making\n    * Climate - how this affects their wines\n    * Wine quality classification system and basic label reading\n    * Overview of the area's wine regions\n    * Red wine grapes and styles\n    * White wine grapes and styles\n    * Regional wine and food - classic pairings\n\nWhen and Where\nSaturday October 10th\, 2009\n6:30pm - 9:00pm\nThe Wine Country Inn\n777 Grande River Drive  \nPalisade\, Colorado 81526
X-ALT-DESC;FMTTYPE=text/html:Explore the famous wine-producing countries and regions of the world\, learning basic wine information and regional culture\, history and wine and food pairing. Sample six wines per class and learn to distinguish tastes by region of origin. Bread and cheese will be served with each class. Fee includes wine\, food\, handouts and tuition. Sign up for this class individually for $50/person\, or use one of the class package deals below:\n\nSign-up for the Wines from Climates similar to Palisade on 10/22 and the Wines of New Zealand on 10/10 and receive a 15% discount!\n\nClass content\n\n    * History of wine making\n    * Climate - how this affects their wines\n    * Wine quality classification system and basic label reading\n    * Overview of the area's wine regions\n    * Red wine grapes and styles\n    * White wine grapes and styles\n    * Regional wine and food - classic pairings\n\nWhen and Where\nSaturday October 10th\, 2009\n6:30pm - 9:00pm\nThe Wine Country Inn\n777 Grande River Drive  \nPalisade\, Colorado 81526
LOCATION:The Wine Country Inn 777 Grande River Drive Palisade\, Colorado 81526
UID:e.562.90
SEQUENCE:3
DTSTAMP:20260422T124548Z
URL:http://palisade.mobileappview.com/events/details/wines-of-new-zealand-class-at-the-wine-country-inn-10-10-2009-90
END:VEVENT

END:VCALENDAR
