BEGIN:VCALENDAR
VERSION:2.0
PRODID:-//ChamberMaster//Event Calendar 2.0//EN
METHOD:PUBLISH
X-PUBLISHED-TTL:P3D
REFRESH-INTERVAL:P3D
CALSCALE:GREGORIAN
BEGIN:VEVENT
DTSTART:20090802T200000Z
DTEND:20090802T220000Z
X-MICROSOFT-CDO-ALLDAYEVENT:FALSE
SUMMARY:Wine Tasting Reception for Artist\, Barbara Churchley
DESCRIPTION:Join The Blue Pig Gallery in an opening reception for artist\, Barbara Churchley's show "Seasons of the Mesa".  A wine tasting reception will be held from 2-4pm featuring wine from Debeque Canyon Winery.
X-ALT-DESC;FMTTYPE=text/html:Join The Blue Pig Gallery in an opening reception for artist\, Barbara Churchley's show "Seasons of the Mesa".  A wine tasting reception will be held from 2-4pm featuring wine from Debeque Canyon Winery.\n
LOCATION:The Blue Pig Gallery\, 119 W 3rd St\, Palisade
UID:e.562.61
SEQUENCE:3
DTSTAMP:20260422T160055Z
URL:http://palisade.mobileappview.com/events/details/wine-tasting-reception-for-artist-barbara-churchley-08-02-2009-61
END:VEVENT

END:VCALENDAR
