BEGIN:VCALENDAR
VERSION:2.0
PRODID:-//ChamberMaster//Event Calendar 2.0//EN
METHOD:PUBLISH
X-PUBLISHED-TTL:P3D
REFRESH-INTERVAL:P3D
CALSCALE:GREGORIAN
BEGIN:VEVENT
DTSTART:20090626T003000Z
DTEND:20090626T030000Z
X-MICROSOFT-CDO-ALLDAYEVENT:FALSE
SUMMARY:Wine Class - Components - Sight\, Smell\, Taste
DESCRIPTION:A series of Wine instruction classes will be presented by Tynan Szvetecz\, Senior Wine Instructor with the International Wine Guild. The component class is a great entry level seminar for the enthusiast or professional that wants to develop or improve their evaluation techniques. Each component of the class covers a different aspect of wine descriptive evaluation\, focusing on the three key senses: vision\, smell and taste. Sensory and evaluation exercises will be followed by wine tastings that focus on the specific sensory skill being developed. You will map your palate in this class.  Add to your growing knowledge of wine by taking the all-day components class and learn about Visual\, Smell and Taste Evaluation. Class includes exercises and tastings for each sense.
X-ALT-DESC;FMTTYPE=text/html:A series of Wine instruction classes will be presented by Tynan Szvetecz\, Senior Wine Instructor with the International Wine Guild. The component class is a great entry level seminar for the enthusiast or professional that wants to develop or improve their evaluation techniques. Each component of the class covers a different aspect of wine descriptive evaluation\, focusing on the three key senses: vision\, smell and taste. Sensory and evaluation exercises will be followed by wine tastings that focus on the specific sensory skill being developed. You will map your palate in this class.  Add to your growing knowledge of wine by taking the all-day components class and learn about Visual\, Smell and Taste Evaluation. Class includes exercises and tastings for each sense. \n
LOCATION:Wine Country Inn
UID:e.562.10
SEQUENCE:3
DTSTAMP:20260422T191026Z
URL:http://palisade.mobileappview.com/events/details/wine-class-components-sight-smell-taste-06-25-2009-10
END:VEVENT

END:VCALENDAR
