BEGIN:VCALENDAR
VERSION:2.0
PRODID:-//ChamberMaster//Event Calendar 2.0//EN
METHOD:PUBLISH
X-PUBLISHED-TTL:P3D
REFRESH-INTERVAL:P3D
CALSCALE:GREGORIAN
BEGIN:VEVENT
DTSTART:20090926T160000Z
DTEND:20090926T220000Z
X-MICROSOFT-CDO-ALLDAYEVENT:FALSE
SUMMARY:Watercolor Workshop on Yupo with Nancy Long
DESCRIPTION:Experience painting with watercolor on Yupo\, a synthetic\, smooth\, non-absorbent surface which enables you to create a very loose and fluid expression of the subject.  It is fun and it will expand your knowledge of watercolor techniques.  Nancy will demonstrate techniques then guide you as you paint a landscape or floral from a photograph. You may bring a photo or choose from those supplied by the instructor.  Please plan to bring a lunch or grab something quickly in order to save painting time! The last 45 minutes of the day will be spent in a group ?constructive critique time?. Supply list will be available at sign up.  Cost for workshop is $60 per person. Call 464-4819.
X-ALT-DESC;FMTTYPE=text/html:Experience painting with watercolor on Yupo\, a synthetic\, smooth\, non-absorbent surface which enables you to create a very loose and fluid expression of the subject.  It is fun and it will expand your knowledge of watercolor techniques.  Nancy will demonstrate techniques then guide you as you paint a landscape or floral from a photograph. You may bring a photo or choose from those supplied by the instructor.  Please plan to bring a lunch or grab something quickly in order to save painting time! The last 45 minutes of the day will be spent in a group ?constructive critique time?. Supply list will be available at sign up.  Cost for workshop is $60 per person. Call 464-4819.
LOCATION:The Blue Pig Gallery\, 119 W 3rd St\, Palisade
UID:e.562.75
SEQUENCE:3
DTSTAMP:20260422T160013Z
URL:http://palisade.mobileappview.com/events/details/watercolor-workshop-on-yupo-with-nancy-long-09-26-2009-75
END:VEVENT

END:VCALENDAR
