BEGIN:VCALENDAR
VERSION:2.0
PRODID:-//ChamberMaster//Event Calendar 2.0//EN
METHOD:PUBLISH
X-PUBLISHED-TTL:P3D
REFRESH-INTERVAL:P3D
CALSCALE:GREGORIAN
BEGIN:VEVENT
DTSTART:20110204T203000Z
DTEND:20110205T003000Z
X-MICROSOFT-CDO-ALLDAYEVENT:FALSE
SUMMARY:Watercolor "Valentine Bouquets" with Artist\, Nancy Lewis
DESCRIPTION:Nancy offers the opportunity to explore the inner artist in you!  This session will include experimental watercolor techniques to produce beautiful Valentine flower bouquets.  Be sure to get your materials list when you sign up. 970-464-4819
X-ALT-DESC;FMTTYPE=text/html:Nancy offers the opportunity to explore the inner artist in you!  This session will include experimental watercolor techniques to produce beautiful Valentine flower bouquets.  Be sure to get your materials list when you sign up. 970-464-4819
LOCATION:The Blue Pig Gallery\, 119 W 3rd St\, Palisade
UID:e.562.862
SEQUENCE:3
DTSTAMP:20260419T104415Z
URL:http://palisade.mobileappview.com/events/details/watercolor-valentine-bouquets-with-artist-nancy-lewis-02-04-2011-862
END:VEVENT

END:VCALENDAR
