BEGIN:VCALENDAR
VERSION:2.0
PRODID:-//ChamberMaster//Event Calendar 2.0//EN
METHOD:PUBLISH
X-PUBLISHED-TTL:P3D
REFRESH-INTERVAL:P3D
CALSCALE:GREGORIAN
BEGIN:VEVENT
DTSTART;VALUE=DATE:20100829
DTEND;VALUE=DATE:20100830
TRANSP:TRANSPARENT
X-MICROSOFT-CDO-ALLDAYEVENT:TRUE
SUMMARY:Tour of the Valley Bike Ride
DESCRIPTION:Organized cycling event that features tour routes of 100\, 75\, 50 or 30 miles. A fun family event!
X-ALT-DESC;FMTTYPE=text/html:Organized cycling event that features tour routes of 100\, 75\, 50 or 30 miles. A fun family event!
LOCATION:Staging area is the Grand Junction DoubleTree Hotel
UID:e.562.137
SEQUENCE:3
DTSTAMP:20260419T203547Z
URL:http://palisade.mobileappview.com/events/details/tour-of-the-valley-bike-ride-08-29-2010-137
END:VEVENT

END:VCALENDAR
