BEGIN:VCALENDAR
VERSION:2.0
PRODID:-//ChamberMaster//Event Calendar 2.0//EN
METHOD:PUBLISH
X-PUBLISHED-TTL:P3D
REFRESH-INTERVAL:P3D
CALSCALE:GREGORIAN
BEGIN:VEVENT
DTSTART:20091101T170000Z
DTEND:20100101T010000Z
X-MICROSOFT-CDO-ALLDAYEVENT:FALSE
SUMMARY:This Little Piggy Miniature Art Show and Sale
DESCRIPTION:The Blue Pig Gallery presents the 3rd Annual Miniature Art Show and Sale. A great event for holiday shoppers looking for fine original art pieces\, the show consists of over 30 artists ranging from oil\, pastel\, wood\, jewelry and many other media.  The show will run through December.  Guest artists include:  Bruce Knuth\, woodworking\; Amy Averitte and Pat Buchanan\, jewelry\; J.J. Robinson\, taxidermy\; and Michael Mitchell\, portraiture.  For more details visit our website:  www.thebluepiggallery.com
X-ALT-DESC;FMTTYPE=text/html:The Blue Pig Gallery presents the 3rd Annual Miniature Art Show and Sale. A great event for holiday shoppers looking for fine original art pieces\, the show consists of over 30 artists ranging from oil\, pastel\, wood\, jewelry and many other media.  The show will run through December.  Guest artists include:  Bruce Knuth\, woodworking\; Amy Averitte and Pat Buchanan\, jewelry\; J.J. Robinson\, taxidermy\; and Michael Mitchell\, portraiture.  For more details visit our website:  www.thebluepiggallery.com
LOCATION:The Blue Pig Gallery 119 W 3rd St\, Palisade
UID:e.562.117
SEQUENCE:3
DTSTAMP:20260420T084332Z
URL:http://palisade.mobileappview.com/events/details/this-little-piggy-miniature-art-show-and-sale-11-01-2009-117
END:VEVENT

END:VCALENDAR
