BEGIN:VCALENDAR
VERSION:2.0
PRODID:-//ChamberMaster//Event Calendar 2.0//EN
METHOD:PUBLISH
X-PUBLISHED-TTL:P3D
REFRESH-INTERVAL:P3D
CALSCALE:GREGORIAN
BEGIN:VEVENT
DTSTART:20100327T020000Z
DTEND:20100327T040000Z
X-MICROSOFT-CDO-ALLDAYEVENT:FALSE
SUMMARY:The Wiliams Brothers Band Performs
DESCRIPTION:The Williams Brothers Band performs live Blues Rock at the Doubletree Hotel in Lounge 743. Must be 21 or older to attend.
X-ALT-DESC;FMTTYPE=text/html:The Williams Brothers Band performs live Blues Rock at the Doubletree Hotel in Lounge 743. Must be 21 or older to attend. 
LOCATION:743 Horizon Drive
UID:e.562.176
SEQUENCE:3
DTSTAMP:20260420T040510Z
URL:http://palisade.mobileappview.com/events/details/the-wiliams-brothers-band-performs-03-26-2010-176
END:VEVENT

END:VCALENDAR
