BEGIN:VCALENDAR
VERSION:2.0
PRODID:-//ChamberMaster//Event Calendar 2.0//EN
METHOD:PUBLISH
X-PUBLISHED-TTL:P3D
REFRESH-INTERVAL:P3D
CALSCALE:GREGORIAN
BEGIN:VEVENT
DTSTART:20100318T020000Z
DTEND:20100318T050000Z
X-MICROSOFT-CDO-ALLDAYEVENT:FALSE
SUMMARY:The Sneaky Snakes Perform
DESCRIPTION:The Sneaky Snakes perform live funk rock music at the Doubletree Hotel. Must be 21 or older to attend.
X-ALT-DESC;FMTTYPE=text/html:The Sneaky Snakes perform live funk rock music at the Doubletree Hotel. Must be 21 or older to attend. 
LOCATION:743 Horizon Drive
UID:e.562.170
SEQUENCE:3
DTSTAMP:20260420T040412Z
URL:http://palisade.mobileappview.com/events/details/the-sneaky-snakes-perform-03-17-2010-170
END:VEVENT

END:VCALENDAR
