BEGIN:VCALENDAR
VERSION:2.0
PRODID:-//ChamberMaster//Event Calendar 2.0//EN
METHOD:PUBLISH
X-PUBLISHED-TTL:P3D
REFRESH-INTERVAL:P3D
CALSCALE:GREGORIAN
BEGIN:VEVENT
DTSTART:20100313T030000Z
DTEND:20100313T060000Z
X-MICROSOFT-CDO-ALLDAYEVENT:FALSE
SUMMARY:The Pineapple Crackers Live at the Doubletree Hotel
DESCRIPTION:The Pineapple Crackers perform inspired island/reggae/rock style music live at the Bistro 743 Lounge in the Doubletree Hotel. Must be 21 or older to attend.
X-ALT-DESC;FMTTYPE=text/html:The Pineapple Crackers perform inspired island/reggae/rock style music live at the Bistro 743 Lounge in the Doubletree Hotel. Must be 21 or older to attend. 
LOCATION:743 Horizon Drive
UID:e.562.169
SEQUENCE:3
DTSTAMP:20260420T040508Z
URL:http://palisade.mobileappview.com/events/details/the-pineapple-crackers-live-at-the-doubletree-hotel-03-12-2010-169
END:VEVENT

END:VCALENDAR
