BEGIN:VCALENDAR
VERSION:2.0
PRODID:-//ChamberMaster//Event Calendar 2.0//EN
METHOD:PUBLISH
X-PUBLISHED-TTL:P3D
REFRESH-INTERVAL:P3D
CALSCALE:GREGORIAN
BEGIN:VEVENT
DTSTART:20091106T170000Z
DTEND:20091107T010000Z
X-MICROSOFT-CDO-ALLDAYEVENT:FALSE
SUMMARY:Texture Techniques with Jody Ahrens
DESCRIPTION:Texture Techniques with Jody Ahrens OR (if you have taken earlier sessions) Establishing Shapes and Composition with Jody Ahrens. Jody will lead you through establishing shapes\, structure and composition. Then you will graduate to oil paints. Jody has a specific materials list you will need to collect when you R.S.V.P. The initial one-hour instruction period is followed by independent work time and creative exchange will begin at 11:00 to 12:30 or 2:00 to 3:30. **You MUST sign up ahead to paint
X-ALT-DESC;FMTTYPE=text/html:Texture Techniques with Jody Ahrens OR (if you have taken earlier sessions) Establishing Shapes and Composition with Jody Ahrens. Jody will lead you through establishing shapes\, structure and composition. Then you will graduate to oil paints. Jody has a specific materials list you will need to collect when you R.S.V.P. The initial one-hour instruction period is followed by independent work time and creative exchange will begin at 11:00 to 12:30 or 2:00 to 3:30. **You MUST sign up ahead to paint 
LOCATION:The Blue Pig Gallery 119 W 3rd St\, Palisade
UID:e.562.113
SEQUENCE:3
DTSTAMP:20260424T090555Z
URL:http://palisade.mobileappview.com/events/details/texture-techniques-with-jody-ahrens-11-06-2009-113
END:VEVENT

END:VCALENDAR
