BEGIN:VCALENDAR
VERSION:2.0
PRODID:-//ChamberMaster//Event Calendar 2.0//EN
METHOD:PUBLISH
X-PUBLISHED-TTL:P3D
REFRESH-INTERVAL:P3D
CALSCALE:GREGORIAN
BEGIN:VEVENT
DTSTART:20100402T170000Z
DTEND:20100403T000000Z
X-MICROSOFT-CDO-ALLDAYEVENT:FALSE
SUMMARY:Texture Techniques with Artist\, Jody Ahrens
DESCRIPTION:Texture Techniques with Jody Ahrens OR (if you have taken earlier sessions) Establishing Shapes and Composition with Jody Ahrens. Jody will lead you through establishing shapes\, structure and composition. Then you will graduate to oil paints. Jody has a specific materials list you will need to collect when you R.S.V.P. The initial one-hour instruction period is followed by independent work time and creative exchange will begin at 11:00 to 12:30 or 2:00 to 3:30.  $15.00 per person.
X-ALT-DESC;FMTTYPE=text/html:Texture Techniques with Jody Ahrens OR (if you have taken earlier sessions) Establishing Shapes and Composition with Jody Ahrens. Jody will lead you through establishing shapes\, structure and composition. Then you will graduate to oil paints. Jody has a specific materials list you will need to collect when you R.S.V.P. The initial one-hour instruction period is followed by independent work time and creative exchange will begin at 11:00 to 12:30 or 2:00 to 3:30.  $15.00 per person.
LOCATION:The Blue Pig Gallery\, 119 W 3rd St\, Palisade
UID:e.562.177
SEQUENCE:3
DTSTAMP:20260420T022621Z
URL:http://palisade.mobileappview.com/events/details/texture-techniques-with-artist-jody-ahrens-04-02-2010-177
END:VEVENT

END:VCALENDAR
