BEGIN:VCALENDAR
VERSION:2.0
PRODID:-//ChamberMaster//Event Calendar 2.0//EN
METHOD:PUBLISH
X-PUBLISHED-TTL:P3D
REFRESH-INTERVAL:P3D
CALSCALE:GREGORIAN
BEGIN:VEVENT
DTSTART:20100305T170000Z
DTEND:20100306T010000Z
X-MICROSOFT-CDO-ALLDAYEVENT:FALSE
SUMMARY:Texture Techniques with Artist\, Jody Ahrens
DESCRIPTION:Texture Techniques with Artist\, Jody Ahrens OR (if you have taken earlier sessions) Establishing Shapes and Composition with Jody Ahrens. Jody will lead you through establishing shapes\, structure and composition. Then you will graduate to oil paints. Jody has a specific materials list you will need to collect when you R.S.V.P. The initial one-hour instruction period is followed by independent work time and creative exchange will begin at 11:00 to 12:30 or 2:00 to 3:30. Four hour sessions\; $15.00 per person.  Call 464-4819 to register.
X-ALT-DESC;FMTTYPE=text/html:Texture Techniques with Artist\, Jody Ahrens OR (if you have taken earlier sessions) Establishing Shapes and Composition with Jody Ahrens. Jody will lead you through establishing shapes\, structure and composition. Then you will graduate to oil paints. Jody has a specific materials list you will need to collect when you R.S.V.P. The initial one-hour instruction period is followed by independent work time and creative exchange will begin at 11:00 to 12:30 or 2:00 to 3:30. Four hour sessions\; $15.00 per person.  Call 464-4819 to register.
LOCATION:The Blue Pig Gallery\, 119 W 3rd St\, Palisade
UID:e.562.157
SEQUENCE:3
DTSTAMP:20260420T040411Z
URL:http://palisade.mobileappview.com/events/details/texture-techniques-with-artist-jody-ahrens-03-05-2010-157
END:VEVENT

END:VCALENDAR
