BEGIN:VCALENDAR
VERSION:2.0
PRODID:-//ChamberMaster//Event Calendar 2.0//EN
METHOD:PUBLISH
X-PUBLISHED-TTL:P3D
REFRESH-INTERVAL:P3D
CALSCALE:GREGORIAN
BEGIN:VEVENT
DTSTART:20100927T000000Z
DTEND:20100927T030000Z
X-MICROSOFT-CDO-ALLDAYEVENT:FALSE
SUMMARY:Sunday Supper Concert Series
DESCRIPTION:Music series continues with Yvonne Meek and Wyld Honey at 6PM\, Sunday\, September 26 on the lawn.\n\nBring your picnic and beverage and a donation for the musicians and join us for the final concert of the summer.
X-ALT-DESC;FMTTYPE=text/html:Music series continues with Yvonne Meek and Wyld Honey at 6PM\, Sunday\, September 26 on the lawn.\n<br>Bring your picnic and beverage and a donation for the musicians and join us for the final concert of the summer.
LOCATION:Vistas and Vineyards B&B 3587 G Road Palisade
UID:e.562.311
SEQUENCE:3
DTSTAMP:20260419T185254Z
URL:http://palisade.mobileappview.com/events/details/sunday-supper-concert-series-09-26-2010-311
END:VEVENT

END:VCALENDAR
