BEGIN:VCALENDAR
VERSION:2.0
PRODID:-//ChamberMaster//Event Calendar 2.0//EN
METHOD:PUBLISH
X-PUBLISHED-TTL:P3D
REFRESH-INTERVAL:P3D
CALSCALE:GREGORIAN
BEGIN:VEVENT
DTSTART:20100830T000000Z
DTEND:20100830T030000Z
X-MICROSOFT-CDO-ALLDAYEVENT:FALSE
SUMMARY:Sunday Supper Concert Series
DESCRIPTION:House Concert\n\nJamie-Sue Seal and John Latini
X-ALT-DESC;FMTTYPE=text/html:House Concert\n<br>Jamie-Sue Seal and John Latini
LOCATION:Vistas and Vineyards B&B 3587 G Road Palisade
UID:e.562.284
SEQUENCE:3
DTSTAMP:20260419T202821Z
URL:http://palisade.mobileappview.com/events/details/sunday-supper-concert-series-08-29-2010-284
END:VEVENT

END:VCALENDAR
