BEGIN:VCALENDAR
VERSION:2.0
PRODID:-//ChamberMaster//Event Calendar 2.0//EN
METHOD:PUBLISH
X-PUBLISHED-TTL:P3D
REFRESH-INTERVAL:P3D
CALSCALE:GREGORIAN
BEGIN:VEVENT
DTSTART:20100524T000000Z
DTEND:20100524T000000Z
X-MICROSOFT-CDO-ALLDAYEVENT:FALSE
SUMMARY:Sunday Concert at Vistas & Vineyards
DESCRIPTION:SUNDAY SUPPER CONCERT SERIES We are more than excited to be able to expand our Sunday Supper house Concert Series this year to SIX concerts!!! The line-up follows and we hope you'll set aside these dates and join us on the patio for a relaxing Sunday evening. http://vandvbandb.com/artistandperformerbio.aspx Bring a friend\, bring your picnic\, bring your beverage and a $15 donation for our talented musicians. Remember our concerts are by invitation\, so please RSVP so we'll have plenty of dessert for the intermission.464-7478
X-ALT-DESC;FMTTYPE=text/html:<div><div class="F_Mid" style="font-size: 20px" align="center"><span style="font-size: small">SUNDAY SUPPER CONCERT SERIES</span></div><div class="F_Mid" style="font-size: 20px" align="center"><span style="font-size: small">&nbsp\;</span></div><div class="F_Mid" style="font-size: 20px" align="center"><span style="font-size: small">We are more than excited to be able to expand our Sunday Supper house Concert Series this year to SIX concerts!!!</span></div><div class="F_Mid" style="font-size: 20px" align="center"><span style="font-size: small">&nbsp\;</span></div><div class="F_Mid" style="font-size: 20px" align="center"><span style="font-size: small">The line-up follows and we hope you&rsquo\;ll set aside these dates and join us on the patio for a relaxing Sunday evening.</span></div><div class="F_Mid" style="font-size: 20px" align="center"><span style="font-size: small">&nbsp\;</span></div><div class="F_Mid" style="font-size: 20px" align="center"><a href="http://vandvbandb.com/artistandperformerbio.aspx"><span style="font-size: small">http://vandvbandb.com/artistandperformerbio.aspx</span></a></div><div class="F_Mid" style="font-size: 20px" align="center"><span style="font-size: small">&nbsp\;</span></div><div class="F_Mid" style="font-size: 20px" align="center"><span style="font-size: small">Bring a friend\, bring your picnic\, bring your beverage and a <strong>$15 </strong>donation for our talented musicians.</span></div><div class="F_Mid" style="font-size: 20px" align="center"><span style="font-size: small">&nbsp\;</span></div><div class="F_Mid" style="font-size: 20px" align="center"><span style="font-size: small"><strong>Remember our concerts are by invitation\, so please RSVP so we&rsquo\;ll have plenty of dessert for the intermission.</strong></span></div><div class="F_Mid" style="font-size: 20px" align="center"><span style="font-size: small"><strong>464-7478</strong></span></div></div>
LOCATION:VISTAS & VINEYARDSBED AND BREAKFAST 970 - 464 - 7478 3587 G ROAD - PALISADE - COLORADO 81526 Donna & Felix Iovanni
UID:e.562.225
SEQUENCE:3
DTSTAMP:20260420T011101Z
URL:http://palisade.mobileappview.com/events/details/sunday-concert-at-vistas-vineyards-05-23-2010-225
END:VEVENT

END:VCALENDAR
