BEGIN:VCALENDAR
VERSION:2.0
PRODID:-//ChamberMaster//Event Calendar 2.0//EN
METHOD:PUBLISH
X-PUBLISHED-TTL:P3D
REFRESH-INTERVAL:P3D
CALSCALE:GREGORIAN
BEGIN:VEVENT
DTSTART:20090725T010000Z
DTEND:20090725T043000Z
X-MICROSOFT-CDO-ALLDAYEVENT:FALSE
SUMMARY:Summer JAZZ 777
DESCRIPTION:Come out and enjoy the smooth sounds of Hot Tub Jazz with Scott Betts. Music will begin at 7pm and the grill opens at 6:30pm. Grab a burger or brat and pull up your chair for the evening entertainment under the Pavilion.  Cash bar. \nDon't worry about driving\, stay the night at the Inn for the special rate of $99.00 for a standard room.
X-ALT-DESC;FMTTYPE=text/html:Come out and enjoy the smooth sounds of Hot Tub Jazz with Scott Betts. Music will begin at 7pm and the grill opens at 6:30pm. Grab a burger or brat and pull up your chair for the evening entertainment under the Pavilion.  Cash bar. \nDon't worry about driving\, stay the night at the Inn for the special rate of $99.00 for a standard room.  
LOCATION:Wine Country Inn Courtyard
UID:e.562.13
SEQUENCE:3
DTSTAMP:20260422T173541Z
URL:http://palisade.mobileappview.com/events/details/summer-jazz-777-07-24-2009-13
END:VEVENT

END:VCALENDAR
