BEGIN:VCALENDAR
VERSION:2.0
PRODID:-//ChamberMaster//Event Calendar 2.0//EN
METHOD:PUBLISH
X-PUBLISHED-TTL:P3D
REFRESH-INTERVAL:P3D
CALSCALE:GREGORIAN
BEGIN:VEVENT
DTSTART:20100320T010000Z
DTEND:20100320T030000Z
X-MICROSOFT-CDO-ALLDAYEVENT:FALSE
SUMMARY:Spring Music Live at The Palisade Cafe' and Grill
DESCRIPTION:Spring MusicLive atThe Palisade Cafe' and Grill  Featuring an eclectic mix of Blues\, Jazz\, Folk and RockBy Local Artists Kellen Michael & Danny Arellano
X-ALT-DESC;FMTTYPE=text/html:<div style="text-align: center"><span style="font-family: Comic Sans MS"><span style="font-size: large">Spring Music</span></span></div><div style="text-align: center"><span style="font-family: Comic Sans MS"><span style="font-size: large">Live at</span></span></div><div style="text-align: center"><span style="font-family: Comic Sans MS"><span style="font-size: large">The Palisade Cafe' and Grill&nbsp\;</span></span></div><div style="text-align: center">&nbsp\;</div><div style="text-align: center"><span style="font-size: medium"><span style="font-family: Comic Sans MS"><span style="">Featuring an eclectic mix of Blues\, Jazz\, Folk and Rock</span></span></span></div><div style="text-align: center"><span style="font-size: medium"><span style="font-family: Comic Sans MS"><span style="">By Local Artists</span></span></span></div><div style="text-align: center">&nbsp\;</div><div style="text-align: center"><span style="font-size: large"><span style=""><span style="font-family: Comic Sans MS"><span style="">Kellen Michael &amp\; Danny Arellano </span></span></span></span></div><div style="">&nbsp\;</div>
LOCATION:The Palisade Cafe' & GrillDowntown Palisade\, CO
UID:e.562.174
SEQUENCE:3
DTSTAMP:20260420T040729Z
URL:http://palisade.mobileappview.com/events/details/spring-music-live-at-the-palisade-cafe-and-grill-03-19-2010-174
END:VEVENT

END:VCALENDAR
