BEGIN:VCALENDAR
VERSION:2.0
PRODID:-//ChamberMaster//Event Calendar 2.0//EN
METHOD:PUBLISH
X-PUBLISHED-TTL:P3D
REFRESH-INTERVAL:P3D
CALSCALE:GREGORIAN
BEGIN:VEVENT
DTSTART:20090916T233000Z
DTEND:20090917T013000Z
X-MICROSOFT-CDO-ALLDAYEVENT:FALSE
SUMMARY:September Business After Hours
DESCRIPTION:September Business After HoursEdward Jones307 W 3rd StPalisade Co 81526 Wednesday September 16\, 2009
X-ALT-DESC;FMTTYPE=text/html:<div>September Business After Hours</div><div>Edward Jones</div><div>307 W 3rd St</div><div>Palisade Co 81526</div><div>&nbsp\;</div><div>Wednesday September 16\, 2009</div><div>&nbsp\;</div>
LOCATION:Edward Jones307 W 3rd StPalisade Co 81526
UID:e.562.80
SEQUENCE:3
DTSTAMP:20260422T142839Z
URL:http://palisade.mobileappview.com/events/details/september-business-after-hours-09-16-2009-80
END:VEVENT

END:VCALENDAR
