BEGIN:VCALENDAR
VERSION:2.0
PRODID:-//ChamberMaster//Event Calendar 2.0//EN
METHOD:PUBLISH
X-PUBLISHED-TTL:P3D
REFRESH-INTERVAL:P3D
CALSCALE:GREGORIAN
BEGIN:VEVENT
DTSTART:20090901T160000Z
DTEND:20091001T000000Z
X-MICROSOFT-CDO-ALLDAYEVENT:FALSE
SUMMARY:Sara Oakley & Friends - Featured Works from The Art Colony
DESCRIPTION:Visit The Blue Pig Gallery during September and explore the vivid works from artists\, Sara Alyn Oakley\, Kathy Herzog\, Nancy Cale\, Carolyn Love and Ruth Leever Peacock.  An exhibit you don't want to miss!
X-ALT-DESC;FMTTYPE=text/html:Visit The Blue Pig Gallery during September and explore the vivid works from artists\, Sara Alyn Oakley\, Kathy Herzog\, Nancy Cale\, Carolyn Love and Ruth Leever Peacock.  An exhibit you don't want to miss! 
LOCATION:The Blue Pig Gallery\, 119 W 3rd St\, Palisade
UID:e.562.82
SEQUENCE:3
DTSTAMP:20260422T142834Z
URL:http://palisade.mobileappview.com/events/details/sara-oakley-friends-featured-works-from-the-art-colony-09-01-2009-82
END:VEVENT

END:VCALENDAR
