BEGIN:VCALENDAR
VERSION:2.0
PRODID:-//ChamberMaster//Event Calendar 2.0//EN
METHOD:PUBLISH
X-PUBLISHED-TTL:P3D
REFRESH-INTERVAL:P3D
CALSCALE:GREGORIAN
BEGIN:VEVENT
DTSTART:20091107T210000Z
DTEND:20091107T230000Z
X-MICROSOFT-CDO-ALLDAYEVENT:FALSE
SUMMARY:Project Linus with Kathy Spoering
DESCRIPTION:Blue Pig Gallery artist and experienced knitter\, Kathy Spoering\, will be on hand to assist and advise on knitting a blanket either in progress or start a new for the Project Linus. Sessions will run from 2 - 4 pm\, no charge\, each Saturday of the month through February. For further information about Project Linus visit our website:  www.thebluepiggallery.com.
X-ALT-DESC;FMTTYPE=text/html:Blue Pig Gallery artist and experienced knitter\, Kathy Spoering\, will be on hand to assist and advise on knitting a blanket either in progress or start a new for the Project Linus. Sessions will run from 2 - 4 pm\, no charge\, each Saturday of the month through February. For further information about Project Linus visit our website:  www.thebluepiggallery.com. \n
LOCATION:The Blue Pig Gallery 119 W 3rd St\, Palisade
UID:e.562.114
SEQUENCE:3
DTSTAMP:20260420T102142Z
URL:http://palisade.mobileappview.com/events/details/project-linus-with-kathy-spoering-11-07-2009-114
END:VEVENT

END:VCALENDAR
