BEGIN:VCALENDAR
VERSION:2.0
PRODID:-//ChamberMaster//Event Calendar 2.0//EN
METHOD:PUBLISH
X-PUBLISHED-TTL:P3D
REFRESH-INTERVAL:P3D
CALSCALE:GREGORIAN
BEGIN:VEVENT
DTSTART:20110115T180000Z
DTEND:20110115T210000Z
X-MICROSOFT-CDO-ALLDAYEVENT:FALSE
SUMMARY:Printmaking: Relief\, Monoprinting\, Collagraphic
DESCRIPTION:Join artist\, Vera Mulder\, to explore the art of printmaking.  Vera will offer a three series class beginning with simple relief printmaking\, which is one of the basic techniques dating back to the Gutenberg era.  This technique involves the cutting away of negative space.  Ink is applied to the remaining positive space and printing.  The next class will be monoprinting.  This technique is painting on a slick surface and pulling a print\, thus the name "Mono" print.  The third class will be collagraphic which is an additive process\, similar to collage\, but with three dimensional type plates.  Each session fee is $15 with only an additional $5 for ink and cutting material\, from 11am - 2pm. Be sure to get your materials lists when you call the Blue Pig Gallery\, 970-464-4819 to reserve your session.
X-ALT-DESC;FMTTYPE=text/html:Join artist\, Vera Mulder\, to explore the art of printmaking.  Vera will offer a three series class beginning with simple relief printmaking\, which is one of the basic techniques dating back to the Gutenberg era.  This technique involves the cutting away of negative space.  Ink is applied to the remaining positive space and printing.  The next class will be monoprinting.  This technique is painting on a slick surface and pulling a print\, thus the name "Mono" print.  The third class will be collagraphic which is an additive process\, similar to collage\, but with three dimensional type plates.  Each session fee is $15 with only an additional $5 for ink and cutting material\, from 11am - 2pm. Be sure to get your materials lists when you call the Blue Pig Gallery\, 970-464-4819 to reserve your session.
LOCATION:The Blue Pig Gallery\, 119 W 3rd St\, Palisade
UID:e.562.329
SEQUENCE:3
DTSTAMP:20260419T122140Z
URL:http://palisade.mobileappview.com/events/details/printmaking-relief-monoprinting-collagraphic-01-15-2011-329
END:VEVENT

END:VCALENDAR
