BEGIN:VCALENDAR
VERSION:2.0
PRODID:-//ChamberMaster//Event Calendar 2.0//EN
METHOD:PUBLISH
X-PUBLISHED-TTL:P3D
REFRESH-INTERVAL:P3D
CALSCALE:GREGORIAN
BEGIN:VEVENT
DTSTART:20100314T160000Z
DTEND:20100314T230000Z
X-MICROSOFT-CDO-ALLDAYEVENT:FALSE
SUMMARY:Pig Tails & Wine Trails Tour
DESCRIPTION:Start your art and wine tour at The Blue Pig Gallery. The first 10 people will receive a free Blue Pig Gallery wine glass. The free tour is open from 10am - 5pm and includes the following businesses: The Blue Pig Gallery\; The Glass Chapel\; Palen Photography\; and the following vineyards: Grande River Vineyards\, Garfield Estates Vineyard & Winery\, Carlson Vineyards\, Mesa Park Vineyards\, Reeder Mesa Vineyards. Pick up your map and spend the day with a bounty of art\, fruit and wine - the Palisade kind!
X-ALT-DESC;FMTTYPE=text/html:Start your art and wine tour at The Blue Pig Gallery. The first 10 people will receive a free Blue Pig Gallery wine glass. The free tour is open from 10am - 5pm and includes the following businesses: The Blue Pig Gallery\; The Glass Chapel\; Palen Photography\; and the following vineyards: Grande River Vineyards\, Garfield Estates Vineyard &amp\; Winery\, Carlson Vineyards\, Mesa Park Vineyards\, Reeder Mesa Vineyards. Pick up your map and spend the day with a bounty of art\, fruit and wine - the Palisade kind!\n<br>
LOCATION:The Blue Pig Gallery\, 119 W 3rd St\, Palisade
UID:e.562.160
SEQUENCE:3
DTSTAMP:20260420T040557Z
URL:http://palisade.mobileappview.com/events/details/pig-tails-wine-trails-tour-03-14-2010-160
END:VEVENT

END:VCALENDAR
