BEGIN:VCALENDAR
VERSION:2.0
PRODID:-//ChamberMaster//Event Calendar 2.0//EN
METHOD:PUBLISH
X-PUBLISHED-TTL:P3D
REFRESH-INTERVAL:P3D
CALSCALE:GREGORIAN
BEGIN:VEVENT
DTSTART:20100214T170000Z
DTEND:20100215T000000Z
X-MICROSOFT-CDO-ALLDAYEVENT:FALSE
SUMMARY:Pig Tails and Wine Trails Tour
DESCRIPTION:Start your art and wine tour at The Blue Pig Gallery.  Bring your sweetheart\, enjoy some Valentine treats and explore the many galleries\, artists and wineries.  Pick up your map and enjoy art\, fruit\, and wine - the Palisade kind!
X-ALT-DESC;FMTTYPE=text/html:Start your art and wine tour at The Blue Pig Gallery.  Bring your sweetheart\, enjoy some Valentine treats and explore the many galleries\, artists and wineries.  Pick up your map and enjoy art\, fruit\, and wine - the Palisade kind!
LOCATION:The Blue Pig Gallery\, 119 W 3rd St\, Palisade
UID:e.562.144
SEQUENCE:3
DTSTAMP:20260420T054442Z
URL:http://palisade.mobileappview.com/events/details/pig-tails-and-wine-trails-tour-02-14-2010-144
END:VEVENT

END:VCALENDAR
