BEGIN:VCALENDAR
VERSION:2.0
PRODID:-//ChamberMaster//Event Calendar 2.0//EN
METHOD:PUBLISH
X-PUBLISHED-TTL:P3D
REFRESH-INTERVAL:P3D
CALSCALE:GREGORIAN
BEGIN:VEVENT
DTSTART:20091118T170000Z
DTEND:20091119T010000Z
X-MICROSOFT-CDO-ALLDAYEVENT:FALSE
SUMMARY:Photography Portfolio Review with Rick Kaylin
DESCRIPTION:This session will examine the basic process of building a photography portfolio. Rick will provide suggestions and guidance. Call to register for either the 10 am - 2 pm or 2 pm - 6 pm. session.
X-ALT-DESC;FMTTYPE=text/html:This session will examine the basic process of building a photography portfolio. Rick will provide suggestions and guidance. Call to register for either the 10 am - 2 pm or 2 pm - 6 pm. session. \n
LOCATION:The Blue Pig Gallery 119 W 3rd St\, Palisade
UID:e.562.116
SEQUENCE:3
DTSTAMP:20260420T102351Z
URL:http://palisade.mobileappview.com/events/details/photography-portfolio-review-with-rick-kaylin-11-18-2009-116
END:VEVENT

END:VCALENDAR
