BEGIN:VCALENDAR
VERSION:2.0
PRODID:-//ChamberMaster//Event Calendar 2.0//EN
METHOD:PUBLISH
X-PUBLISHED-TTL:P3D
REFRESH-INTERVAL:P3D
CALSCALE:GREGORIAN
BEGIN:VEVENT
DTSTART:20100519T160000Z
DTEND:20100520T000000Z
X-MICROSOFT-CDO-ALLDAYEVENT:FALSE
SUMMARY:Photography Portfolio Review with Rick Kaylin
DESCRIPTION:This session will examine the basic process of building a photography portfolio. Rick will provide suggestions and guidance. $15 per four hour session. Choose: 10am - 12 pm\, 12 - 2 pm\, 2- 4 pm or 4 - 6pm. Call the Blue Pig Gallery\, 970-464-4819 to register or visit:  www.thebluepiggallery.com.
X-ALT-DESC;FMTTYPE=text/html:This session will examine the basic process of building a photography portfolio. Rick will provide suggestions and guidance. $15 per four hour session. Choose: 10am - 12 pm\, 12 - 2 pm\, 2- 4 pm or 4 - 6pm. Call the Blue Pig Gallery\, 970-464-4819 to register or visit:  www.thebluepiggallery.com.  \n<br>
LOCATION:The Blue Pig Gallery\, 119 W 3rd St\, Palisade
UID:e.562.191
SEQUENCE:3
DTSTAMP:20260420T011101Z
URL:http://palisade.mobileappview.com/events/details/photography-portfolio-review-with-rick-kaylin-05-19-2010-191
END:VEVENT

END:VCALENDAR
