BEGIN:VCALENDAR
VERSION:2.0
PRODID:-//ChamberMaster//Event Calendar 2.0//EN
METHOD:PUBLISH
X-PUBLISHED-TTL:P3D
REFRESH-INTERVAL:P3D
CALSCALE:GREGORIAN
BEGIN:VEVENT
DTSTART:20100120T170000Z
DTEND:20100121T010000Z
X-MICROSOFT-CDO-ALLDAYEVENT:FALSE
SUMMARY:Photography Portfolio Review with Rick Kaylin
DESCRIPTION:This session will examine the basic process of building a photography portfolio. Rick will provide suggestions and guidance. $15 per ftwo hour session. Choose: 10am - 12 pm\, 12 - 2 pm\, 2- 4 pm or 4 - 6pm.
X-ALT-DESC;FMTTYPE=text/html:This session will examine the basic process of building a photography portfolio. Rick will provide suggestions and guidance. $15 per ftwo hour session. Choose: 10am - 12 pm\, 12 - 2 pm\, 2- 4 pm or 4 - 6pm. \n<br>
LOCATION:The Blue Pig Gallery 119 W 3rd St\, Palisade
UID:e.562.133
SEQUENCE:3
DTSTAMP:20260420T070459Z
URL:http://palisade.mobileappview.com/events/details/photography-portfolio-review-with-rick-kaylin-01-20-2010-133
END:VEVENT

END:VCALENDAR
