BEGIN:VCALENDAR
VERSION:2.0
PRODID:-//ChamberMaster//Event Calendar 2.0//EN
METHOD:PUBLISH
X-PUBLISHED-TTL:P3D
REFRESH-INTERVAL:P3D
CALSCALE:GREGORIAN
BEGIN:VEVENT
DTSTART:20090730T000000Z
DTEND:20090730T030000Z
X-MICROSOFT-CDO-ALLDAYEVENT:FALSE
SUMMARY:Photography for Point and Shoot Photographers
DESCRIPTION:Point and shoot cameras are wonderful little machines and getting better everyday.  They inherently have advantages and disadvantages compared to larger cameras.  Photographer\, Richard Kaylin\, will take a look at these characteristics and about how to manipulate them to get more interesting and exciting photos.  He'll go over the camera's controls and programs\, light and exposure\, composition\, and a little about post processing. Cost-$40 Call 970-464-4819 to register.
X-ALT-DESC;FMTTYPE=text/html:Point and shoot cameras are wonderful little machines and getting better everyday.  They inherently have advantages and disadvantages compared to larger cameras.  Photographer\, Richard Kaylin\, will take a look at these characteristics and about how to manipulate them to get more interesting and exciting photos.  He'll go over the camera's controls and programs\, light and exposure\, composition\, and a little about post processing. Cost-$40 Call 970-464-4819 to register.
LOCATION:The Blue Pig Gallery\, 119 W 3rd St\, Palisade
UID:e.562.57
SEQUENCE:3
DTSTAMP:20260422T175347Z
URL:http://palisade.mobileappview.com/events/details/photography-for-point-and-shoot-photographers-07-29-2009-57
END:VEVENT

END:VCALENDAR
