BEGIN:VCALENDAR
VERSION:2.0
PRODID:-//ChamberMaster//Event Calendar 2.0//EN
METHOD:PUBLISH
X-PUBLISHED-TTL:P3D
REFRESH-INTERVAL:P3D
CALSCALE:GREGORIAN
BEGIN:VEVENT
DTSTART:20110128T200000Z
DTEND:20110128T230000Z
X-MICROSOFT-CDO-ALLDAYEVENT:FALSE
SUMMARY:Pet Pastels with Artist\, Penny Creasy
DESCRIPTION:Award winning wildlife artist Penny Creasy shares her knowledge and techniques for producing life-like images of animals in pastels.  All artistic levels welcome.  Please bring a wildlife or pet image to the session.  Be sure to get your materials list when you sign up.
X-ALT-DESC;FMTTYPE=text/html:Award winning wildlife artist Penny Creasy shares her knowledge and techniques for producing life-like images of animals in pastels.  All artistic levels welcome.  Please bring a wildlife or pet image to the session.  Be sure to get your materials list when you sign up.
LOCATION:The Blue Pig Gallery\, 119 W 3rd St\, Palisade
UID:e.562.860
SEQUENCE:3
DTSTAMP:20260419T122858Z
URL:http://palisade.mobileappview.com/events/details/pet-pastels-with-artist-penny-creasy-01-28-2011-860
END:VEVENT

END:VCALENDAR
