BEGIN:VCALENDAR
VERSION:2.0
PRODID:-//ChamberMaster//Event Calendar 2.0//EN
METHOD:PUBLISH
X-PUBLISHED-TTL:P3D
REFRESH-INTERVAL:P3D
CALSCALE:GREGORIAN
BEGIN:VEVENT
DTSTART:20100311T030000Z
DTEND:20100311T060000Z
X-MICROSOFT-CDO-ALLDAYEVENT:FALSE
SUMMARY:Paul Harshman of Flat Top Reed Performs
DESCRIPTION:Pau Harshman of Flat Top Reed performs live Blues music at the Bistro 743 Lounge in the Doubletree Hotel. Must be 21 or older to attend.
X-ALT-DESC;FMTTYPE=text/html:Pau Harshman of Flat Top Reed performs live Blues music at the Bistro 743 Lounge in the Doubletree Hotel. Must be 21 or older to attend. 
LOCATION:743 Horizon Drive
UID:e.562.168
SEQUENCE:3
DTSTAMP:20260420T040417Z
URL:http://palisade.mobileappview.com/events/details/paul-harshman-of-flat-top-reed-performs-03-10-2010-168
END:VEVENT

END:VCALENDAR
