BEGIN:VCALENDAR
VERSION:2.0
PRODID:-//ChamberMaster//Event Calendar 2.0//EN
METHOD:PUBLISH
X-PUBLISHED-TTL:P3D
REFRESH-INTERVAL:P3D
CALSCALE:GREGORIAN
BEGIN:VEVENT
DTSTART:20100725T160000Z
DTEND:20100725T200000Z
X-MICROSOFT-CDO-ALLDAYEVENT:FALSE
SUMMARY:Palisade Sunday Market
DESCRIPTION:PALISADE SUNDAY MARKET Held every Sunday in historic downtown Palisade.  Market features local artisans\, crafts\, musicians\, non-profit organizations\, and wineries.  The centerpiece of the market is locally grown Palisade fruits and vegetables.
X-ALT-DESC;FMTTYPE=text/html:<div style="text-align: center">PALISADE&nbsp\;SUNDAY&nbsp\;MARKET</div><div>&nbsp\;</div><div>Held every Sunday in historic downtown Palisade.&nbsp\; Market features local artisans\, crafts\, musicians\, non-profit organizations\, and wineries.&nbsp\; The centerpiece of the market is locally grown Palisade fruits and vegetables.</div>
LOCATION:Down Town Palisade. Intersection of 3rd and Main
UID:e.562.202
SEQUENCE:3
DTSTAMP:20260419T215331Z
URL:http://palisade.mobileappview.com/events/details/palisade-sunday-market-07-25-2010-202
END:VEVENT

END:VCALENDAR
