BEGIN:VCALENDAR
VERSION:2.0
PRODID:-//ChamberMaster//Event Calendar 2.0//EN
METHOD:PUBLISH
X-PUBLISHED-TTL:P3D
REFRESH-INTERVAL:P3D
CALSCALE:GREGORIAN
BEGIN:VEVENT
DTSTART:20090817T010000Z
DTEND:20090817T040000Z
X-MICROSOFT-CDO-ALLDAYEVENT:FALSE
SUMMARY:Palisade Peach Festival Feast in the Field III
DESCRIPTION:An elegant gourmet dinner\, served in a local orchard\, that combines the art of cuisine with Palisade peaches\, fruits and produce.This evenings meal will be catered by The Wine Country Inn of Palisade paired with wines from DeBeque Canyon Winery and Garfield Estates Winery.Music this evening provided by Hans Rieger.  Hans plays the Zither -an instrument whose music is described as a combination of harp & guitarSeating is limited and reservations are required. Photo below is of the food & wine pairing for the Feast at the Wine Country Inn
X-ALT-DESC;FMTTYPE=text/html:<div>An elegant gourmet&nbsp\;dinner\, served in a local orchard\, that combines the art of cuisine with Palisade peaches\, fruits and produce.</div><div>This evenings meal will be catered by The Wine Country Inn of Palisade paired with wines from DeBeque Canyon Winery and&nbsp\;Garfield Estates Winery.</div><div>Music this evening provided by Hans Rieger.&nbsp\; Hans plays the Zither -an instrument whose music is described as a combination of harp &amp\; guitar</div><div>Seating is limited and reservations are required.</div><div>&nbsp\;</div><div>Photo below is of the food &amp\; wine pairing for the Feast at the Wine Country Inn</div>
LOCATION:Sunday August 16th Feast in the Field will take place at:Bikki's Ranch of Liberty3848 G 1/4 RdPalisade Co 81526
UID:e.562.7
SEQUENCE:3
DTSTAMP:20260422T160259Z
URL:http://palisade.mobileappview.com/events/details/palisade-peach-festival-feast-in-the-field-iii-08-16-2009-7
END:VEVENT

END:VCALENDAR
