BEGIN:VCALENDAR
VERSION:2.0
PRODID:-//ChamberMaster//Event Calendar 2.0//EN
METHOD:PUBLISH
X-PUBLISHED-TTL:P3D
REFRESH-INTERVAL:P3D
CALSCALE:GREGORIAN
BEGIN:VEVENT
DTSTART:20090816T010000Z
DTEND:20090816T040000Z
X-MICROSOFT-CDO-ALLDAYEVENT:FALSE
SUMMARY:Palisade Peach Festival Feast in the Field II
DESCRIPTION:An elegant gourmet dinner\, served in a local orchard\, that combines the art of cuisine with Palisade peaches\, fruits and produce. Each course is paired with Palisade Wines. This evenings meal will be paired with wines from Carlson Vineyards and Canyon Wind Cellars.  Seating is limited and reservations are required.
X-ALT-DESC;FMTTYPE=text/html:<div>An elegant gourmet&nbsp\;dinner\, served in a local orchard\, that combines the art of cuisine with Palisade peaches\, fruits and produce. Each course is paired with Palisade Wines.</div><div>&nbsp\;</div><div>This evenings meal will be paired with wines from Carlson Vineyards and Canyon Wind Cellars.</div><div>&nbsp\;</div><div>&nbsp\;</div><div>Seating is limited and reservations are required.</div>
LOCATION:Saturday August 15th Feast in the Field will take place at: High Country Orchards & Vineyards3548 E 1/2 RdPalisade Co 81526
UID:e.562.6
SEQUENCE:3
DTSTAMP:20260422T160314Z
URL:http://palisade.mobileappview.com/events/details/palisade-peach-festival-feast-in-the-field-ii-08-15-2009-6
END:VEVENT

END:VCALENDAR
