BEGIN:VCALENDAR
VERSION:2.0
PRODID:-//ChamberMaster//Event Calendar 2.0//EN
METHOD:PUBLISH
X-PUBLISHED-TTL:P3D
REFRESH-INTERVAL:P3D
CALSCALE:GREGORIAN
BEGIN:VEVENT
DTSTART:20090815T010000Z
DTEND:20090815T040000Z
X-MICROSOFT-CDO-ALLDAYEVENT:FALSE
SUMMARY:Palisade Peach Festival Feast in the Field I
DESCRIPTION:An elegant gourmet dinner\, served in a local orchard\, that combines the art of cuisine with Palisade peaches\, fruits and produce. Each course is paired with Palisade Wines. Seating is limited and reservations are required.
X-ALT-DESC;FMTTYPE=text/html:<div>An elegant gourmet&nbsp\;dinner\, served in a local orchard\, that combines the art of cuisine with Palisade peaches\, fruits and produce. Each course is paired with Palisade Wines.</div><div>&nbsp\;</div><div>Seating is limited and reservations are required.</div>
LOCATION:Friday August 19th\, 2011 Feast in the Field will take place at: Z's Orchard 315 33 3/4 Rd Palisade Co 81526
UID:e.562.969
SEQUENCE:3
DTSTAMP:20260422T160406Z
URL:http://palisade.mobileappview.com/events/details/palisade-peach-festival-feast-in-the-field-i-08-14-2009-969
END:VEVENT

END:VCALENDAR
