BEGIN:VCALENDAR
VERSION:2.0
PRODID:-//ChamberMaster//Event Calendar 2.0//EN
METHOD:PUBLISH
X-PUBLISHED-TTL:P3D
REFRESH-INTERVAL:P3D
CALSCALE:GREGORIAN
BEGIN:VEVENT
DTSTART;VALUE=DATE:20091212
DTEND;VALUE=DATE:20091213
TRANSP:TRANSPARENT
X-MICROSOFT-CDO-ALLDAYEVENT:TRUE
SUMMARY:Palisade Downtown Business District
DESCRIPTION:Stringing lights & garlandinPalisade Downtown Business DistrictAfterwardChili Supper atArts & Antiques of Palisade
X-ALT-DESC;FMTTYPE=text/html:<div style="text-align: center">Stringing lights &amp\; garland</div><div style="text-align: center">in</div><div style="text-align: center">Palisade Downtown Business District</div><div style="text-align: center">Afterward</div><div style="text-align: center">Chili Supper at</div><div style="text-align: center">Arts &amp\; Antiques of Palisade</div>
LOCATION:DOWNTOWN PALISADE
UID:e.562.111
SEQUENCE:3
DTSTAMP:20260422T092532Z
URL:http://palisade.mobileappview.com/events/details/palisade-downtown-business-district-12-12-2009-111
END:VEVENT

END:VCALENDAR
