BEGIN:VCALENDAR
VERSION:2.0
PRODID:-//ChamberMaster//Event Calendar 2.0//EN
METHOD:PUBLISH
X-PUBLISHED-TTL:P3D
REFRESH-INTERVAL:P3D
CALSCALE:GREGORIAN
BEGIN:VEVENT
DTSTART:20100721T233000Z
DTEND:20100722T013000Z
X-MICROSOFT-CDO-ALLDAYEVENT:FALSE
SUMMARY:Palisade Chamber of Commerce - July Business After Hours Social
DESCRIPTION:The Palisade Chamber of Commerce Business After Hours Social is usually held the 3rd Wednesday of each month.  This event is an opportunity to network and socialize with your fellow chamber members.  Interested in joining the chamber?  Attending the social would be a fun way to meet chamber staff and learn more about membership benefits. Exciting door prizes are given away each month.  Members interested in donating a door prize item to highlight your business\, please contact the chamber office.   Refreshments are provided by the host location.
X-ALT-DESC;FMTTYPE=text/html:<div>The Palisade Chamber of Commerce Business After Hours Social is usually held the 3rd Wednesday of each month.&nbsp\;</div><div>&nbsp\;</div><div>This event is an opportunity to network and socialize with your fellow chamber members.&nbsp\; Interested in joining the chamber?&nbsp\; Attending the social would be a fun way to meet chamber staff and learn more about membership benefits.</div><div>&nbsp\;</div><div>Exciting door prizes are given away each month.&nbsp\; Members interested in donating a door prize item to highlight your business\, please contact the chamber office.</div><div>&nbsp\;</div><div>&nbsp\;</div><div>&nbsp\;</div><div>Refreshments are provided by the host location.</div>
LOCATION:July Business After Hours host: MAJOR MORTGAGE Robert Thomas 3847 North River RoadPalisade\, CO 81526 Directions: 3rd turns into N. River Road\, go past the industrial park on your right.
UID:e.562.276
SEQUENCE:3
DTSTAMP:20260419T220516Z
URL:http://palisade.mobileappview.com/events/details/palisade-chamber-of-commerce-july-business-after-hours-social-07-21-2010-276
END:VEVENT

END:VCALENDAR
