BEGIN:VCALENDAR
VERSION:2.0
PRODID:-//ChamberMaster//Event Calendar 2.0//EN
METHOD:PUBLISH
X-PUBLISHED-TTL:P3D
REFRESH-INTERVAL:P3D
CALSCALE:GREGORIAN
BEGIN:VEVENT
DTSTART;VALUE=DATE:20090612
DTEND;VALUE=DATE:20090615
TRANSP:TRANSPARENT
X-MICROSOFT-CDO-ALLDAYEVENT:TRUE
SUMMARY:Palisade Bluegrass & Roots Music Festival
DESCRIPTION:Bluegrass\, Acoustic Blues\, Folk\, AMericana\, Old-Time & Celtic Music
X-ALT-DESC;FMTTYPE=text/html:<div>Bluegrass\, Acoustic Blues\, Folk\, AMericana\, Old-Time &amp\; Celtic Music</div>
LOCATION:Palisade Riverbend Park
UID:e.562.4
SEQUENCE:3
DTSTAMP:20260422T191601Z
URL:http://palisade.mobileappview.com/events/details/palisade-bluegrass-roots-music-festival-06-12-2009-4
END:VEVENT

END:VCALENDAR
