BEGIN:VCALENDAR
VERSION:2.0
PRODID:-//ChamberMaster//Event Calendar 2.0//EN
METHOD:PUBLISH
X-PUBLISHED-TTL:P3D
REFRESH-INTERVAL:P3D
CALSCALE:GREGORIAN
BEGIN:VEVENT
DTSTART;VALUE=DATE:20100611
DTEND;VALUE=DATE:20100614
TRANSP:TRANSPARENT
X-MICROSOFT-CDO-ALLDAYEVENT:TRUE
SUMMARY:Palisade Bluegrass & Roots Music Festival
DESCRIPTION:Enjoy excellent acoustic music and sip on Western Colorado native beer\, wine or spirits in a dramatic setting along the Colorado RIver.  Festival features bluegrass and roots musicians\, on-site camping\, jam sessions and children activities. For full schedule of bands playing please visit: www.palisademusic.com
X-ALT-DESC;FMTTYPE=text/html:<div>Enjoy excellent acoustic music and sip on Western Colorado native beer\, wine or spirits in a dramatic setting along the Colorado RIver.&nbsp\; Festival features bluegrass and roots musicians\, on-site camping\, jam sessions and children activities.</div><div>&nbsp\;</div><div>For full schedule of bands playing please visit:</div><div>&nbsp\;</div><div><a href="http://www.palisademusic.com">www.palisademusic.com</a></div>
LOCATION:Riverbend ParkPalisade\, Colorado
UID:e.562.217
SEQUENCE:3
DTSTAMP:20260419T232125Z
URL:http://palisade.mobileappview.com/events/details/palisade-bluegrass-roots-music-festival-06-11-2010-217
END:VEVENT

END:VCALENDAR
