BEGIN:VCALENDAR
VERSION:2.0
PRODID:-//ChamberMaster//Event Calendar 2.0//EN
METHOD:PUBLISH
X-PUBLISHED-TTL:P3D
REFRESH-INTERVAL:P3D
CALSCALE:GREGORIAN
BEGIN:VEVENT
DTSTART;VALUE=DATE:20101109
DTEND;VALUE=DATE:20101220
TRANSP:TRANSPARENT
X-MICROSOFT-CDO-ALLDAYEVENT:TRUE
SUMMARY:Palilsade Living Center Toy and Food Drive
DESCRIPTION:Toy Drive Toys for Girls and Boys\, and a Food Drive\, all collected items will be given out with the assistance of the Salvation Army to families in need in Mesa county
X-ALT-DESC;FMTTYPE=text/html:Toy Drive Toys for Girls and Boys\, and a Food Drive\, all collected items will be given out with the assistance of the Salvation Army to families in need in Mesa county
LOCATION:Palisade Living Center will be a drop off point
UID:e.562.325
SEQUENCE:3
DTSTAMP:20260419T141049Z
URL:http://palisade.mobileappview.com/events/details/palilsade-living-center-toy-and-food-drive-11-09-2010-325
END:VEVENT

END:VCALENDAR
