BEGIN:VCALENDAR
VERSION:2.0
PRODID:-//ChamberMaster//Event Calendar 2.0//EN
METHOD:PUBLISH
X-PUBLISHED-TTL:P3D
REFRESH-INTERVAL:P3D
CALSCALE:GREGORIAN
BEGIN:VEVENT
DTSTART:20091029T160000Z
DTEND:20091030T000000Z
X-MICROSOFT-CDO-ALLDAYEVENT:FALSE
SUMMARY:Painting in Layers with Travis Jardon
DESCRIPTION:Travis brings a subtle power and depth to his masterful oil paintings through the technique of layering. Bring your own oil paint supplies. Travis offers guidance and demos throughout the day. Drop in any time after 11:00 am
X-ALT-DESC;FMTTYPE=text/html:Travis brings a subtle power and depth to his masterful oil paintings through the technique of layering. Bring your own oil paint supplies. Travis offers guidance and demos throughout the day. Drop in any time after 11:00 am
LOCATION:The Blue Pig Gallery\, 119 W 3rd St\, Palisade
UID:e.562.97
SEQUENCE:3
DTSTAMP:20260422T124258Z
URL:http://palisade.mobileappview.com/events/details/painting-in-layers-with-travis-jardon-10-29-2009-97
END:VEVENT

END:VCALENDAR
