BEGIN:VCALENDAR
VERSION:2.0
PRODID:-//ChamberMaster//Event Calendar 2.0//EN
METHOD:PUBLISH
X-PUBLISHED-TTL:P3D
REFRESH-INTERVAL:P3D
CALSCALE:GREGORIAN
BEGIN:VEVENT
DTSTART:20100629T170000Z
DTEND:20100629T233000Z
X-MICROSOFT-CDO-ALLDAYEVENT:FALSE
SUMMARY:Painting in Layers with Travis Jardon
DESCRIPTION:Travis brings a subtle power and depth to his masterful oil paintings through the technique of layering. Bring your own oil paint supplies. Travis offers guidance and demos throughout the day. Four hour sessions $15.00 per person. Call to register for your session for any time after 11:00 am
X-ALT-DESC;FMTTYPE=text/html:Travis brings a subtle power and depth to his masterful oil paintings through the technique of layering. Bring your own oil paint supplies. Travis offers guidance and demos throughout the day. Four hour sessions $15.00 per person. Call to register for your session for any time after 11:00 am\n<br>
LOCATION:The Blue Pig Gallery\, 119 W 3rd St\, Palisade
UID:e.562.235
SEQUENCE:3
DTSTAMP:20260419T231747Z
URL:http://palisade.mobileappview.com/events/details/painting-in-layers-with-travis-jardon-06-29-2010-235
END:VEVENT

END:VCALENDAR
