BEGIN:VCALENDAR
VERSION:2.0
PRODID:-//ChamberMaster//Event Calendar 2.0//EN
METHOD:PUBLISH
X-PUBLISHED-TTL:P3D
REFRESH-INTERVAL:P3D
CALSCALE:GREGORIAN
BEGIN:VEVENT
DTSTART:20100329T170000Z
DTEND:20100330T000000Z
X-MICROSOFT-CDO-ALLDAYEVENT:FALSE
SUMMARY:Painting in Layers with Artist\, Travis Jardon
DESCRIPTION:Painting in Layers with Travis Jardon in this casual\, open studio session. Travis brings a subtle power and depth to his masterful oil paintings through the technique of layering. Bring your own oil paint supplies. Travis offers guidance and demos throughout the day. Four hour sessions $15.00 per person. Call 464-4819 to register.
X-ALT-DESC;FMTTYPE=text/html:Painting in Layers with Travis Jardon in this casual\, open studio session. Travis brings a subtle power and depth to his masterful oil paintings through the technique of layering. Bring your own oil paint supplies. Travis offers guidance and demos throughout the day. Four hour sessions $15.00 per person. Call 464-4819 to register.
LOCATION:The Blue Pig Gallery\, 119 W 3rd St\, Palisade
UID:e.562.163
SEQUENCE:3
DTSTAMP:20260420T040827Z
URL:http://palisade.mobileappview.com/events/details/painting-in-layers-with-artist-travis-jardon-03-29-2010-163
END:VEVENT

END:VCALENDAR
