BEGIN:VCALENDAR
VERSION:2.0
PRODID:-//ChamberMaster//Event Calendar 2.0//EN
METHOD:PUBLISH
X-PUBLISHED-TTL:P3D
REFRESH-INTERVAL:P3D
CALSCALE:GREGORIAN
BEGIN:VEVENT
DTSTART:20100129T170000Z
DTEND:20100130T010000Z
X-MICROSOFT-CDO-ALLDAYEVENT:FALSE
SUMMARY:Painting in Layers with Artist\, Travis Jardon
DESCRIPTION:Explore Painting in Layers with Travis Jardon in this casual\, open studio session. Travis brings a subtle power and depth to his masterful oil paintings through the technique of layering. Bring your own oil paint supplies. Travis offers guidance and demos throughout the day. Four hour sessions $15.00 per person.
X-ALT-DESC;FMTTYPE=text/html:Explore Painting in Layers with Travis Jardon in this casual\, open studio session. Travis brings a subtle power and depth to his masterful oil paintings through the technique of layering. Bring your own oil paint supplies. Travis offers guidance and demos throughout the day. Four hour sessions $15.00 per person. 
LOCATION:The Blue Pig Gallery 119 W 3rd St\, Palisade
UID:e.562.134
SEQUENCE:3
DTSTAMP:20260420T070307Z
URL:http://palisade.mobileappview.com/events/details/painting-in-layers-with-artist-travis-jardon-01-29-2010-134
END:VEVENT

END:VCALENDAR
