BEGIN:VCALENDAR
VERSION:2.0
PRODID:-//ChamberMaster//Event Calendar 2.0//EN
METHOD:PUBLISH
X-PUBLISHED-TTL:P3D
REFRESH-INTERVAL:P3D
CALSCALE:GREGORIAN
BEGIN:VEVENT
DTSTART:20091111T170000Z
DTEND:20091112T010000Z
X-MICROSOFT-CDO-ALLDAYEVENT:FALSE
SUMMARY:Paint Experiment with Artist Cynthia Duff
DESCRIPTION:Paint Experiment with Cynthia Duff - Express yourself from within using color theory with acrylic or watercolor. Layering color to the expressionistic end! Viola! $15 for an all day session or until the paint runs out! Please reserve your space ahead of time by calling the gallery.
X-ALT-DESC;FMTTYPE=text/html:Paint Experiment with Cynthia Duff - Express yourself from within using color theory with acrylic or watercolor. Layering color to the expressionistic end! Viola! $15 for an all day session or until the paint runs out! Please reserve your space ahead of time by calling the gallery.\n
LOCATION:The Blue Pig Gallery 119 W 3rd St\, Palisade
UID:e.562.115
SEQUENCE:3
DTSTAMP:20260420T102251Z
URL:http://palisade.mobileappview.com/events/details/paint-experiment-with-artist-cynthia-duff-11-11-2009-115
END:VEVENT

END:VCALENDAR
