BEGIN:VCALENDAR
VERSION:2.0
PRODID:-//ChamberMaster//Event Calendar 2.0//EN
METHOD:PUBLISH
X-PUBLISHED-TTL:P3D
REFRESH-INTERVAL:P3D
CALSCALE:GREGORIAN
BEGIN:VEVENT
DTSTART:20100919T160000Z
DTEND:20100919T200000Z
X-MICROSOFT-CDO-ALLDAYEVENT:FALSE
SUMMARY:Paint a Pig
DESCRIPTION:The Pig-A-Sus Homestead Potbelly Pig Sanctuary and the Blue Pig Gallery are literally offering a day to paint pigs on Sunday\, September 19th\, from 10 am - 2 pm in the courtyard of the Blue Pig Gallery.  People\, young and old\, are encourage to come and paint a live pot bellied pig. There is no charge\, however donations are appreciated to help support the Pig-a-Sus Homestead Potbelly Pig Sanctuary.  \n\nStarting at 10 am will be a "Media Celebrity Paint Off" involving local radio\, television\, and newspaper personnel competing for the most popular pig masterpiece.  Throughout the day\, community members can vote on their favorite media painted pig.  \n\nAdditionally\, this year's featured artists will be from the Hilltop Life Adjustment Program for traumatically brain injured clients.  Each client will paint a pig for joy and laughter.  \n\nFor more information about this event and the Blue Pig Gallery and Pig-a-Sus visit:  www.thebluepiggallery.com and www.pigasus.org\, or call the gallery at 970-464-4819.
X-ALT-DESC;FMTTYPE=text/html:The Pig-A-Sus Homestead Potbelly Pig Sanctuary and the Blue Pig Gallery are literally offering a day to paint pigs on Sunday\, September 19th\, from 10 am - 2 pm in the courtyard of the Blue Pig Gallery.  People\, young and old\, are encourage to come and paint a live pot bellied pig. There is no charge\, however donations are appreciated to help support the Pig-a-Sus Homestead Potbelly Pig Sanctuary.  \n<br>Starting at 10 am will be a "Media Celebrity Paint Off" involving local radio\, television\, and newspaper personnel competing for the most popular pig masterpiece.  Throughout the day\, community members can vote on their favorite media painted pig.  \n<br>Additionally\, this year's featured artists will be from the Hilltop Life Adjustment Program for traumatically brain injured clients.  Each client will paint a pig for joy and laughter.  \n<br>For more information about this event and the Blue Pig Gallery and Pig-a-Sus visit:  www.thebluepiggallery.com and www.pigasus.org\, or call the gallery at 970-464-4819.   
LOCATION:The Blue Pig Gallery\, 119 W 3rd St\, Palisade
UID:e.562.294
SEQUENCE:3
DTSTAMP:20260419T184847Z
URL:http://palisade.mobileappview.com/events/details/paint-a-pig-09-19-2010-294
END:VEVENT

END:VCALENDAR
