BEGIN:VCALENDAR
VERSION:2.0
PRODID:-//ChamberMaster//Event Calendar 2.0//EN
METHOD:PUBLISH
X-PUBLISHED-TTL:P3D
REFRESH-INTERVAL:P3D
CALSCALE:GREGORIAN
BEGIN:VEVENT
DTSTART:20101114T170000Z
DTEND:20101115T010000Z
X-MICROSOFT-CDO-ALLDAYEVENT:FALSE
SUMMARY:Opening Reception: This Little Piggy Miniature Art Show and Sale
DESCRIPTION:The Blue Pig Gallery\, 119 W 3rd Street in Palisade\, presents the 4th Annual Miniature Art Show and Sale. A great event for holiday shoppers looking for fine original art pieces\, this show consists of over 45 artists ranging from oil\, pastel\, pottery\, jewelry\, glass\, wood and many other media.  The show will run from November 2nd through the end of December. \n\nThe opening reception will be held Sunday\, November 14th from 10am - 6pm.  Join the gallery for delectable treats and beverages and explore artists as they demonstrate and talk about their work. \n\n "We are thrilled to offer this popular festive holiday event for a fourth consecutive year" said Tina Kleespies\, Marketing Director.  Our customers will find this year's art treasures truly unique."  To learn more about this delightful holiday show and The Blue Pig Gallery visit: www.thebluepiggallery.com or call (970) 464-4819.  The Blue Pig Gallery is open Tuesday through Sunday\, 10:00 a.m. - 6:00 p.m.
X-ALT-DESC;FMTTYPE=text/html:The Blue Pig Gallery\, 119 W 3rd Street in Palisade\, presents the 4th Annual Miniature Art Show and Sale. A great event for holiday shoppers looking for fine original art pieces\, this show consists of over 45 artists ranging from oil\, pastel\, pottery\, jewelry\, glass\, wood and many other media.  The show will run from November 2nd through the end of December. \n<br>The opening reception will be held Sunday\, November 14th from 10am - 6pm.  Join the gallery for delectable treats and beverages and explore artists as they demonstrate and talk about their work. \n<br> "We are thrilled to offer this popular festive holiday event for a fourth consecutive year" said Tina Kleespies\, Marketing Director.  Our customers will find this year's art treasures truly unique."  To learn more about this delightful holiday show and The Blue Pig Gallery visit: www.thebluepiggallery.com or call (970) 464-4819.  The Blue Pig Gallery is open Tuesday through Sunday\, 10:00 a.m. - 6:00 p.m.
LOCATION:The Blue Pig Gallery\, 119 W 3rd St\, Palisade
UID:e.562.319
SEQUENCE:3
DTSTAMP:20260419T154039Z
URL:http://palisade.mobileappview.com/events/details/opening-reception-this-little-piggy-miniature-art-show-and-sale-11-14-2010-319
END:VEVENT

END:VCALENDAR
