BEGIN:VCALENDAR
VERSION:2.0
PRODID:-//ChamberMaster//Event Calendar 2.0//EN
METHOD:PUBLISH
X-PUBLISHED-TTL:P3D
REFRESH-INTERVAL:P3D
CALSCALE:GREGORIAN
BEGIN:VEVENT
DTSTART:20091114T000000Z
DTEND:20091114T030000Z
X-MICROSOFT-CDO-ALLDAYEVENT:FALSE
SUMMARY:Opening Reception-This Little Piggy Miniature Art Show and Sale
DESCRIPTION:The Blue Pig Gallery presents the 3rd Annual Miniature Art Show and Sale. A great event for holiday shoppers looking for fine original art pieces. The show consists of over 30 artists ranging from oil\, pastel\, wood\, jewelry and many other media.  Join the gallery for a hot toddy or hot cidar during the opening reception and explore works by the following guest artists: Amy Averitte and Pat Buchanan\, jewelry\; Bruce Knuth\, wood vessels\; J.J. Robinson\, whimsical figurines\; and Michael Mitchell\, expressive portraits.  For more information visit:  www.thebluepiggallery.com or call 970-464-4819.
X-ALT-DESC;FMTTYPE=text/html:The Blue Pig Gallery presents the 3rd Annual Miniature Art Show and Sale. A great event for holiday shoppers looking for fine original art pieces. The show consists of over 30 artists ranging from oil\, pastel\, wood\, jewelry and many other media.  Join the gallery for a hot toddy or hot cidar during the opening reception and explore works by the following guest artists: Amy Averitte and Pat Buchanan\, jewelry\; Bruce Knuth\, wood vessels\; J.J. Robinson\, whimsical figurines\; and Michael Mitchell\, expressive portraits.  For more information visit:  www.thebluepiggallery.com or call 970-464-4819.
LOCATION:The Blue Pig Gallery 119 W 3rd St\, Palisade
UID:e.562.120
SEQUENCE:3
DTSTAMP:20260420T102522Z
URL:http://palisade.mobileappview.com/events/details/opening-reception-this-little-piggy-miniature-art-show-and-sale-11-13-2009-120
END:VEVENT

END:VCALENDAR
