BEGIN:VCALENDAR
VERSION:2.0
PRODID:-//ChamberMaster//Event Calendar 2.0//EN
METHOD:PUBLISH
X-PUBLISHED-TTL:P3D
REFRESH-INTERVAL:P3D
CALSCALE:GREGORIAN
BEGIN:VEVENT
DTSTART:20100123T000000Z
DTEND:20100123T030000Z
X-MICROSOFT-CDO-ALLDAYEVENT:FALSE
SUMMARY:Opening Reception-''Portraits of Locals Who Make a Difference Exhibit''
DESCRIPTION:Join the Blue Pig Gallery for the opening reception of the "Portrait of Locals Who Make a Difference" Exhibit. 20 celebrated locals whose portrait was created by an artist represented by the Blue Pig Gallery will be on exhibit. As part of the exhibit\, the gallery will donate a portion of proceeds from the sale of the work to the subject?s charity of choice. The portrait subjects\, charity choices and artists will be in attendance. Visit:  www.thebluepiggallery.com for full details.
X-ALT-DESC;FMTTYPE=text/html:Join the Blue Pig Gallery for the opening reception of the "Portrait of Locals Who Make a Difference" Exhibit. 20 celebrated locals whose portrait was created by an artist represented by the Blue Pig Gallery will be on exhibit. As part of the exhibit\, the gallery will donate a portion of proceeds from the sale of the work to the subject?s charity of choice. The portrait subjects\, charity choices and artists will be in attendance. Visit:  www.thebluepiggallery.com for full details.\n<br>
LOCATION:The Blue Pig Gallery 119 W 3rd St\, Palisade
UID:e.562.136
SEQUENCE:3
DTSTAMP:20260420T070229Z
URL:http://palisade.mobileappview.com/events/details/opening-reception-portraits-of-locals-who-make-a-difference-exhibit-01-22-2010-136
END:VEVENT

END:VCALENDAR
