BEGIN:VCALENDAR
VERSION:2.0
PRODID:-//ChamberMaster//Event Calendar 2.0//EN
METHOD:PUBLISH
X-PUBLISHED-TTL:P3D
REFRESH-INTERVAL:P3D
CALSCALE:GREGORIAN
BEGIN:VEVENT
DTSTART:20091016T230000Z
DTEND:20091017T020000Z
X-MICROSOFT-CDO-ALLDAYEVENT:FALSE
SUMMARY:Opening Reception-1st Annual Honeybee Festival
DESCRIPTION:The Blue Pig Gallery welcomes local artists\, who's varied works all connect to the honeybee\, for a show during the month of October.  Diana Woods\, Dianna Fritzler and Amber Streweler all offer encaustic pieces\, an unique material comprised of hot wax\, pigment and damar resin. Deborah Snider has mixed media collages and a bee theme quilt.  Susan Metzger has numerous batiks\, a process of wax and dyes\, and Sarah Denise Kasper is displaying hand thrown honeypots. \nIncluded in the opening will also be two presentions:  Chris Blatter\, local beekeeper\, will speak on the condition of the local honeybee\, and Gary McCallister\, Professor of Biology at Mesa State College will discuss "Living Together".
X-ALT-DESC;FMTTYPE=text/html:The Blue Pig Gallery welcomes local artists\, who's varied works all connect to the honeybee\, for a show during the month of October.  Diana Woods\, Dianna Fritzler and Amber Streweler all offer encaustic pieces\, an unique material comprised of hot wax\, pigment and damar resin. Deborah Snider has mixed media collages and a bee theme quilt.  Susan Metzger has numerous batiks\, a process of wax and dyes\, and Sarah Denise Kasper is displaying hand thrown honeypots. \nIncluded in the opening will also be two presentions:  Chris Blatter\, local beekeeper\, will speak on the condition of the local honeybee\, and Gary McCallister\, Professor of Biology at Mesa State College will discuss "Living Together". 
LOCATION:The Blue Pig Gallery 119 W 3rd St\, Palisade
UID:e.562.93
SEQUENCE:3
DTSTAMP:20260422T124411Z
URL:http://palisade.mobileappview.com/events/details/opening-reception-1st-annual-honeybee-festival-10-16-2009-93
END:VEVENT

END:VCALENDAR
